BEGIN:VCALENDAR
VERSION:2.0
PRODID:-//Judoteam &amp; Budo Friedberg - ECPv6.15.20//NONSGML v1.0//EN
CALSCALE:GREGORIAN
METHOD:PUBLISH
X-WR-CALNAME:Judoteam &amp; Budo Friedberg
X-ORIGINAL-URL:https://judoteam-friedberg.de
X-WR-CALDESC:Veranstaltungen für Judoteam &amp; Budo Friedberg
REFRESH-INTERVAL;VALUE=DURATION:PT1H
X-Robots-Tag:noindex
X-PUBLISHED-TTL:PT1H
BEGIN:VTIMEZONE
TZID:Europe/Berlin
BEGIN:DAYLIGHT
TZOFFSETFROM:+0100
TZOFFSETTO:+0200
TZNAME:CEST
DTSTART:20250330T010000
END:DAYLIGHT
BEGIN:STANDARD
TZOFFSETFROM:+0200
TZOFFSETTO:+0100
TZNAME:CET
DTSTART:20251026T010000
END:STANDARD
BEGIN:DAYLIGHT
TZOFFSETFROM:+0100
TZOFFSETTO:+0200
TZNAME:CEST
DTSTART:20260329T010000
END:DAYLIGHT
BEGIN:STANDARD
TZOFFSETFROM:+0200
TZOFFSETTO:+0100
TZNAME:CET
DTSTART:20261025T010000
END:STANDARD
BEGIN:DAYLIGHT
TZOFFSETFROM:+0100
TZOFFSETTO:+0200
TZNAME:CEST
DTSTART:20270328T010000
END:DAYLIGHT
BEGIN:STANDARD
TZOFFSETFROM:+0200
TZOFFSETTO:+0100
TZNAME:CET
DTSTART:20271031T010000
END:STANDARD
BEGIN:DAYLIGHT
TZOFFSETFROM:+0100
TZOFFSETTO:+0200
TZNAME:CEST
DTSTART:20280326T010000
END:DAYLIGHT
BEGIN:STANDARD
TZOFFSETFROM:+0200
TZOFFSETTO:+0100
TZNAME:CET
DTSTART:20281029T010000
END:STANDARD
END:VTIMEZONE
BEGIN:VEVENT
DTSTART;VALUE=DATE:20260425
DTEND;VALUE=DATE:20260426
DTSTAMP:20260424T110242
CREATED:20251123T104649Z
LAST-MODIFIED:20251123T111831Z
UID:9520-1777075200-1777161599@judoteam-friedberg.de
SUMMARY:Bezirks Vereins Mannschafts Meisterschaften U13
DESCRIPTION:
URL:https://judoteam-friedberg.de/veranstaltung/bezirks-vereins-mannschafts-meisterschaften-u13/
LOCATION:Halle der Vinzenz-Pallotti-Schule\, Aichacher Straße\, Friedberg\, 86316\, Deutschland
CATEGORIES:Wettkampf
END:VEVENT
BEGIN:VEVENT
DTSTART;VALUE=DATE:20260425
DTEND;VALUE=DATE:20260426
DTSTAMP:20260424T110242
CREATED:20251123T104815Z
LAST-MODIFIED:20251123T104815Z
UID:9519-1777075200-1777161599@judoteam-friedberg.de
SUMMARY:Ranglistenturnier U15
DESCRIPTION:
URL:https://judoteam-friedberg.de/veranstaltung/ranglistenturnier-u15-3/
LOCATION:Halle der Vinzenz-Pallotti-Schule\, Aichacher Straße\, Friedberg\, 86316\, Deutschland
CATEGORIES:Wettkampf
END:VEVENT
BEGIN:VEVENT
DTSTART;VALUE=DATE:20260510
DTEND;VALUE=DATE:20260511
DTSTAMP:20260424T110242
CREATED:20251123T105731Z
LAST-MODIFIED:20251123T105731Z
UID:9527-1778371200-1778457599@judoteam-friedberg.de
SUMMARY:Japanisches Frühlingsfest
DESCRIPTION:
URL:https://judoteam-friedberg.de/veranstaltung/japanisches-fruehlingsfest-2/
LOCATION:Botanischer Garten Augsburg\, Dr.-Ziegenspeck-Weg 10\, Augsburg\, Bayern\, 86161\, Germany
CATEGORIES:Aktion
END:VEVENT
BEGIN:VEVENT
DTSTART;VALUE=DATE:20260704
DTEND;VALUE=DATE:20260705
DTSTAMP:20260424T110242
CREATED:20251123T105938Z
LAST-MODIFIED:20251123T111905Z
UID:9528-1783123200-1783209599@judoteam-friedberg.de
SUMMARY:Bayernliga Heimkampf gegen ASV Fürth
DESCRIPTION:
URL:https://judoteam-friedberg.de/veranstaltung/bayernliga-heimkampf-gegen-asv-fuerth/
LOCATION:Halle der Vinzenz-Pallotti-Schule\, Aichacher Straße\, Friedberg\, 86316\, Deutschland
CATEGORIES:Wettkampf
END:VEVENT
BEGIN:VEVENT
DTSTART;VALUE=DATE:20260718
DTEND;VALUE=DATE:20260719
DTSTAMP:20260424T110242
CREATED:20251123T110047Z
LAST-MODIFIED:20251123T111808Z
UID:9529-1784332800-1784419199@judoteam-friedberg.de
SUMMARY:Breitensport Lehrgang
DESCRIPTION:
URL:https://judoteam-friedberg.de/veranstaltung/breitensport-lehrgang-2/
LOCATION:Halle der Vinzenz-Pallotti-Schule\, Aichacher Straße\, Friedberg\, 86316\, Deutschland
CATEGORIES:Aktion
END:VEVENT
BEGIN:VEVENT
DTSTART;VALUE=DATE:20260801
DTEND;VALUE=DATE:20260803
DTSTAMP:20260424T110242
CREATED:20251123T115009Z
LAST-MODIFIED:20251124T184328Z
UID:9550-1785542400-1785715199@judoteam-friedberg.de
SUMMARY:Judosafari 2026
DESCRIPTION:
URL:https://judoteam-friedberg.de/veranstaltung/judosafari-2026/
LOCATION:Sportfreunde Heim\, Ottoried 2\, Friedberg\, Bayern\, 86316\, Germany
CATEGORIES:Aktion
ATTACH;FMTTYPE=image/jpeg:https://judoteam-friedberg.de/wp-content/uploads/2025/11/Judosafari-2026.jpg
END:VEVENT
BEGIN:VEVENT
DTSTART;VALUE=DATE:20261010
DTEND;VALUE=DATE:20261011
DTSTAMP:20260424T110242
CREATED:20251123T110200Z
LAST-MODIFIED:20251123T111752Z
UID:9530-1791590400-1791676799@judoteam-friedberg.de
SUMMARY:Trainer Assistenten Lehrgang
DESCRIPTION:
URL:https://judoteam-friedberg.de/veranstaltung/trainer-assistenten-lehrgang/
LOCATION:Halle der Vinzenz-Pallotti-Schule\, Aichacher Straße\, Friedberg\, 86316\, Deutschland
CATEGORIES:Aktion
END:VEVENT
BEGIN:VEVENT
DTSTART;VALUE=DATE:20261121
DTEND;VALUE=DATE:20261122
DTSTAMP:20260424T110242
CREATED:20251123T111302Z
LAST-MODIFIED:20251123T111302Z
UID:9536-1795219200-1795305599@judoteam-friedberg.de
SUMMARY:Ranglistenturnier U15
DESCRIPTION:
URL:https://judoteam-friedberg.de/veranstaltung/ranglistenturnier-u15-4/
LOCATION:Halle der Vinzenz-Pallotti-Schule\, Aichacher Straße\, Friedberg\, 86316\, Deutschland
CATEGORIES:Wettkampf
END:VEVENT
BEGIN:VEVENT
DTSTART;VALUE=DATE:20261121
DTEND;VALUE=DATE:20261122
DTSTAMP:20260424T110242
CREATED:20251123T111347Z
LAST-MODIFIED:20251123T111347Z
UID:9538-1795219200-1795305599@judoteam-friedberg.de
SUMMARY:Ranglistenturnier U13
DESCRIPTION:
URL:https://judoteam-friedberg.de/veranstaltung/ranglistenturnier-u13-2/
LOCATION:Halle der Vinzenz-Pallotti-Schule\, Aichacher Straße\, Friedberg\, 86316\, Deutschland
CATEGORIES:Wettkampf
END:VEVENT
BEGIN:VEVENT
DTSTART;VALUE=DATE:20261212
DTEND;VALUE=DATE:20261213
DTSTAMP:20260424T110242
CREATED:20251123T111454Z
LAST-MODIFIED:20251123T111454Z
UID:9539-1797033600-1797119999@judoteam-friedberg.de
SUMMARY:Bezirks Einzelmeisterschaften U18 (für 2027)
DESCRIPTION:
URL:https://judoteam-friedberg.de/veranstaltung/bezirks-einzelmeisterschaften-u18-fuer-2027/
LOCATION:Halle der Vinzenz-Pallotti-Schule\, Aichacher Straße\, Friedberg\, 86316\, Deutschland
CATEGORIES:Wettkampf
END:VEVENT
BEGIN:VEVENT
DTSTART;VALUE=DATE:20261212
DTEND;VALUE=DATE:20261213
DTSTAMP:20260424T110242
CREATED:20251123T111545Z
LAST-MODIFIED:20251123T111545Z
UID:9540-1797033600-1797119999@judoteam-friedberg.de
SUMMARY:Bezirks Einzelmeisterschaften U21 (für 2027)
DESCRIPTION:
URL:https://judoteam-friedberg.de/veranstaltung/bezirks-einzelmeisterschaften-u21-fuer-2027/
LOCATION:Halle der Vinzenz-Pallotti-Schule\, Aichacher Straße\, Friedberg\, 86316\, Deutschland
CATEGORIES:Wettkampf
END:VEVENT
BEGIN:VEVENT
DTSTART;VALUE=DATE:20261212
DTEND;VALUE=DATE:20261213
DTSTAMP:20260424T110242
CREATED:20251123T111649Z
LAST-MODIFIED:20251123T111730Z
UID:9545-1797033600-1797119999@judoteam-friedberg.de
SUMMARY:Bezirks Einzelmeisterschaften Männer & Frauen
DESCRIPTION:
URL:https://judoteam-friedberg.de/veranstaltung/bezirks-einzelmeisterschaften-maenner-frauen/
LOCATION:Halle der Vinzenz-Pallotti-Schule\, Aichacher Straße\, Friedberg\, 86316\, Deutschland
CATEGORIES:Wettkampf
END:VEVENT
BEGIN:VEVENT
DTSTART;TZID=Europe/Berlin:20270105T190000
DTEND;TZID=Europe/Berlin:20270105T220000
DTSTAMP:20260424T110242
CREATED:20260106T151915Z
LAST-MODIFIED:20260106T152139Z
UID:9619-1799175600-1799186400@judoteam-friedberg.de
SUMMARY:Neujahrsfeier 2027
DESCRIPTION:
URL:https://judoteam-friedberg.de/veranstaltung/neujahrsfeier-2027/
LOCATION:El Grecco Friedberg\, Bauernbräustraße 50\, Friedberg\, 86316\, Germany
CATEGORIES:Aktion
END:VEVENT
END:VCALENDAR